BEGIN:VCALENDAR
VERSION:2.0
PRODID:-//Tukios.com/
BEGIN:VEVENT
UID:32a443ff-774f-453d-8010-714a28b5d9ed@www.apfelfuneralhome.com
DTSTAMP:20260420T201330Z
DTSTART:20260423T150000Z
DTEND:20260423T160000Z
SUMMARY:Funeral Service
DESCRIPTION:
URL:https://www.apfelfuneralhome.com/obituaries/norma-trosper
LOCATION:Trinity Lutheran Church 212 W 12th St  Grand Island NE 68801
GEO:40.9351337;-98.3488447
END:VEVENT
END:VCALENDAR