BEGIN:VCALENDAR
VERSION:2.0
PRODID:-//Tukios.com/
BEGIN:VEVENT
UID:7853e3a2-6c20-4816-aee4-0921af0448af@www.apfelfuneralhome.com
DTSTAMP:20260420T202121Z
DTSTART:20260422T220000Z
DTEND:20260423T000000Z
SUMMARY:Visitation
DESCRIPTION:
URL:https://www.apfelfuneralhome.com/obituaries/norma-trosper
LOCATION:Apfel Funeral Home 1123 West 2nd Street  Grand Island NE 68801
GEO:40.9198977;-98.3508586
END:VEVENT
END:VCALENDAR